BEGIN:VCALENDAR
VERSION:2.0
PRODID:-//CDU Kreisverband Schwäbisch Hall - ECPv6.15.12.2//NONSGML v1.0//EN
CALSCALE:GREGORIAN
METHOD:PUBLISH
X-WR-CALNAME:CDU Kreisverband Schwäbisch Hall
X-ORIGINAL-URL:https://cdu-sha.de
X-WR-CALDESC:Veranstaltungen für CDU Kreisverband Schwäbisch Hall
REFRESH-INTERVAL;VALUE=DURATION:PT1H
X-Robots-Tag:noindex
X-PUBLISHED-TTL:PT1H
BEGIN:VTIMEZONE
TZID:Europe/Berlin
BEGIN:DAYLIGHT
TZOFFSETFROM:+0100
TZOFFSETTO:+0200
TZNAME:CEST
DTSTART:20240331T010000
END:DAYLIGHT
BEGIN:STANDARD
TZOFFSETFROM:+0200
TZOFFSETTO:+0100
TZNAME:CET
DTSTART:20241027T010000
END:STANDARD
BEGIN:DAYLIGHT
TZOFFSETFROM:+0100
TZOFFSETTO:+0200
TZNAME:CEST
DTSTART:20250330T010000
END:DAYLIGHT
BEGIN:STANDARD
TZOFFSETFROM:+0200
TZOFFSETTO:+0100
TZNAME:CET
DTSTART:20251026T010000
END:STANDARD
BEGIN:DAYLIGHT
TZOFFSETFROM:+0100
TZOFFSETTO:+0200
TZNAME:CEST
DTSTART:20260329T010000
END:DAYLIGHT
BEGIN:STANDARD
TZOFFSETFROM:+0200
TZOFFSETTO:+0100
TZNAME:CET
DTSTART:20261025T010000
END:STANDARD
END:VTIMEZONE
BEGIN:VEVENT
DTSTART;TZID=Europe/Berlin:20250717T190000
DTEND;TZID=Europe/Berlin:20250717T210000
DTSTAMP:20260422T002605
CREATED:20250624T130047Z
LAST-MODIFIED:20250627T092450Z
UID:4137-1752778800-1752786000@cdu-sha.de
SUMMARY:Politischer Abend des CDU- Stadtverbandes Schrozberg im Rahmen des Jacobi- Festes
DESCRIPTION:Sehr geehrte Damen und Herren\, \n\n\n\nwir möchten Sie sehr herzlich zum \n\n\n\nPolitischen Abend des CDU- Stadtverbandes Schrozbergam Donnerstag\, den 17. Juli 2025 um 19.00 Uhrins Festzelt am Sportgelände in 74575 Schrozberg(Navigation – Parkplätz: Stadionweg 9)einladen. Einlass ist bereits um 18 Uhr. \n\n\n\nWir freuen uns sehr\, an diesem Abend den Landesvorsitzenden der CDU in Baden- Württemberg\, Vorsitzenden der CDU- Landtagsfraktion und Spitzenkandidat der CDU für die Landtagswahl am 8. März 2026 Manuel Hagel MdL begrüßen zu können. \n\n\n\nWeiter wird sich unser Landtagskandidat für den Wahlkreis Hohenlohe\, Dr. Tim Breitkreuz vorstellen. \n\n\n\nMusikalisch umrahmt wird der Abend von der Stadtkapelle Schrozberg. \n\n\n\nWir freuen uns sehr\, wenn Sie an diesem Abend dabei sind. Gerne können Sie Ihre Freunde und Bekannte dazu einladen. \n\n\n\nMit freundlichen Grüßen \n\n\n\nLothar MühlenstedtVorsitzender CDU-Ortsverband Schrozberg
URL:https://cdu-sha.de/termin/politischer-abend-des-cdu-stadtverbandes-schrozberg-imrahmen-des-jacobi-festes/
ATTACH;FMTTYPE=image/jpeg:https://cdu-sha.de/wp-content/uploads/2025/06/WhatsApp-Image-2025-06-25-at-22.36.27-e1751016239285.jpeg
END:VEVENT
END:VCALENDAR